BEGIN:VCALENDAR
VERSION:2.0
PRODID:icalendar-ruby
CALSCALE:GREGORIAN
METHOD:PUBLISH
BEGIN:VTIMEZONE
TZID:Europe/Vienna
BEGIN:DAYLIGHT
DTSTART:20240331T030000
TZOFFSETFROM:+0100
TZOFFSETTO:+0200
RRULE:FREQ=YEARLY;BYDAY=-1SU;BYMONTH=3
TZNAME:CEST
END:DAYLIGHT
BEGIN:STANDARD
DTSTART:20231029T020000
TZOFFSETFROM:+0200
TZOFFSETTO:+0100
RRULE:FREQ=YEARLY;BYDAY=-1SU;BYMONTH=10
TZNAME:CET
END:STANDARD
END:VTIMEZONE
BEGIN:VEVENT
DTSTAMP:20260424T114056Z
UID:648ae474f1b69180473814@ist.ac.at
DTSTART:20240314T130000
DTEND:20240314T150000
DESCRIPTION:Speaker: Eric Yen-Yo Chen\nhosted by Tamas Hausel\nAbstract: Re
 lative Langlands duality\, as recently introduced by Ben-Zvi--Sakellaridis
 --Venkatesh\, posits that well known formulae in the theory of automorphic
  periods can be understood as a duality of Hamiltonian actions by Langland
 s dual groups. In the expository half of the talk\, I will introduce relat
 ive duality and its relation with fundamental concepts in the Langlands pr
 ogram: automorphic periods\, L-functions\, and functoriality. In the secon
 d half\, I will discuss joint work with Akshay Venkatesh in which we follo
 w this philosophy to understand the duality underlying integral representa
 tions of L-functions discovered by Garrett and Ginzburg more than 30 years
  ago. In doing so\, we describe a new numerical invariant of L-parameters\
 , generalising Langlands' notion of L-functions.
LOCATION:Office Bldg West / Ground floor / Heinzel Seminar Room (I21.EG.101
 )\, ISTA
ORGANIZER:boosthui@ist.ac.at
SUMMARY:Eric Yen-Yo Chen: Relative Langlands duality of singular automorphi
 c periods
URL:https://talks-calendar.ista.ac.at/events/4846
END:VEVENT
END:VCALENDAR
