BEGIN:VCALENDAR
VERSION:2.0
PRODID:icalendar-ruby
CALSCALE:GREGORIAN
METHOD:PUBLISH
BEGIN:VTIMEZONE
TZID:Europe/Vienna
BEGIN:DAYLIGHT
DTSTART:20240331T030000
TZOFFSETFROM:+0100
TZOFFSETTO:+0200
RRULE:FREQ=YEARLY;BYDAY=-1SU;BYMONTH=3
TZNAME:CEST
END:DAYLIGHT
BEGIN:STANDARD
DTSTART:20231029T020000
TZOFFSETFROM:+0200
TZOFFSETTO:+0100
RRULE:FREQ=YEARLY;BYDAY=-1SU;BYMONTH=10
TZNAME:CET
END:STANDARD
END:VTIMEZONE
BEGIN:VEVENT
DTSTAMP:20260424T114041Z
UID:1711040400@ist.ac.at
DTSTART:20240321T180000
DTEND:20240321T210000
DESCRIPTION:hosted by ISTA\nAbstract: Wir laden Sie herzlich ein\, mehr üb
 er die neusten Entwicklungen am Institute of Science and Technology Austri
 a (ISTA) zu erfahren. Bei unserem Informationsabend möchten wir die Bevö
 lkerung der Gemeinde Klosterneuburg über die Fortschritte am Institut und
  über die Bauprojekte auf dem Campus informieren: Womit beschäftigen sic
 h die Wissenschafter:innen in den inzwischen über 80 Forschungsgruppen au
 s Naturwissenschaften\, Mathematik und Computerwissenschaften? Welche Vera
 nstaltungsangebote gibt es für Kinder\, Jugendliche und Erwachsene? Welch
 e neuen Gebäude sind für das ISTA geplant? Über die Neuigkeiten berich
 ten wir gemeinsam mit Vertreter:innen des Landes Niederösterreich.  Nac
 h den einleitenden Präsentationen sind Ihre Fragen willkommen. Bleiben Si
 e zum anschließenden informellen Austausch bei Getränken und einer Klein
 igkeit zum Essen. Zudem gibt es eine begrenzte Platzzahl für Führungen d
 urch unsere Labore.
LOCATION:RLH\, ISTA
ORGANIZER:lilla.kukor@ista.ac.at
SUMMARY:ISTA Informationsabend für Klosterneuburger Bürger:innen
URL:https://talks-calendar.ista.ac.at/events/4838
END:VEVENT
END:VCALENDAR
