BEGIN:VCALENDAR
VERSION:2.0
PRODID:icalendar-ruby
CALSCALE:GREGORIAN
METHOD:PUBLISH
BEGIN:VTIMEZONE
TZID:Europe/Vienna
BEGIN:DAYLIGHT
DTSTART:20240331T030000
TZOFFSETFROM:+0100
TZOFFSETTO:+0200
RRULE:FREQ=YEARLY;BYDAY=-1SU;BYMONTH=3
TZNAME:CEST
END:DAYLIGHT
BEGIN:STANDARD
DTSTART:20231029T020000
TZOFFSETFROM:+0200
TZOFFSETTO:+0100
RRULE:FREQ=YEARLY;BYDAY=-1SU;BYMONTH=10
TZNAME:CET
END:STANDARD
END:VTIMEZONE
BEGIN:VEVENT
DTSTAMP:20260424T143001Z
UID:1709548200@ist.ac.at
DTSTART:20240304T113000
DTEND:20240304T123000
DESCRIPTION:Speaker: Nicholas Barton & Christoph Lampert\nhosted by Jeremie
  Palacci\nAbstract: Fifteen years of evolutionary genetics at ISTA (Nick
  Barton) & Trustworthy Machine Learning (Christoph Lampert)   
LOCATION:Raiffeisen Lecture Hall\, ISTA
ORGANIZER:maria.arias.sutil@ista.ac.at
SUMMARY:Nicholas Barton & Christoph Lampert: Senior-ISTA Colloquium: Nichol
 as Barton & Christoph Lampert
URL:https://talks-calendar.ista.ac.at/events/4837
END:VEVENT
END:VCALENDAR
