BEGIN:VCALENDAR
VERSION:2.0
PRODID:icalendar-ruby
CALSCALE:GREGORIAN
METHOD:PUBLISH
BEGIN:VTIMEZONE
TZID:Europe/Vienna
BEGIN:DAYLIGHT
DTSTART:20240331T030000
TZOFFSETFROM:+0100
TZOFFSETTO:+0200
RRULE:FREQ=YEARLY;BYDAY=-1SU;BYMONTH=3
TZNAME:CEST
END:DAYLIGHT
BEGIN:STANDARD
DTSTART:20231029T020000
TZOFFSETFROM:+0200
TZOFFSETTO:+0100
RRULE:FREQ=YEARLY;BYDAY=-1SU;BYMONTH=10
TZNAME:CET
END:STANDARD
END:VTIMEZONE
BEGIN:VEVENT
DTSTAMP:20260424T143106Z
UID:1708672500@ist.ac.at
DTSTART:20240223T081500
DTEND:20240223T213000
DESCRIPTION:hosted by Lora Sweeney\nAbstract: We are very excited to announ
 ce the FENS Satellite Symposium on Neuronal Motor Circuits\, the day befor
 e the main FENS meeting.This FENS satellite event will bring together scie
 ntists interested in motor circuits across scales\, species\, regions of 
 the nervous system\, and granularity. Presentations will highlight this di
 versity in the areas of sensory-motor integration\; development and evolut
 ion of cell types and connectivity\; pathological and physiological plasti
 city\; and motor planning and execution. Researchers at all career levels 
 are encouraged to apply but preference for talks will be given to early 
 career researchers (young group leaders\, postdocs\, students) to present 
 their recent research.We ask you to formally register (https://motor-cont
 rol-satellite-2024.ista.ac.at/registration/). We aim exclusively for an in
 -person event.Organizing Committee:Lora Sweeney (ISTA)Rune Berg (Universit
 y of Copenhagen)Julien Bouvier (CNRS Paris)Graziana Gatto (University Hosp
 ital Cologne)Maarten Zwart (Centre of Biophotonics St Andrews)
LOCATION:Moonstone Seminar Center\, ISTA
ORGANIZER:motor-control-satellite-2024@ista.ac.at
SUMMARY:Motor Control Across Scales 
URL:https://talks-calendar.ista.ac.at/events/4826
END:VEVENT
END:VCALENDAR
