BEGIN:VCALENDAR
VERSION:2.0
PRODID:icalendar-ruby
CALSCALE:GREGORIAN
METHOD:PUBLISH
BEGIN:VTIMEZONE
TZID:Europe/Vienna
BEGIN:DAYLIGHT
DTSTART:20240331T030000
TZOFFSETFROM:+0100
TZOFFSETTO:+0200
RRULE:FREQ=YEARLY;BYDAY=-1SU;BYMONTH=3
TZNAME:CEST
END:DAYLIGHT
BEGIN:STANDARD
DTSTART:20231029T020000
TZOFFSETFROM:+0200
TZOFFSETTO:+0100
RRULE:FREQ=YEARLY;BYDAY=-1SU;BYMONTH=10
TZNAME:CET
END:STANDARD
END:VTIMEZONE
BEGIN:VEVENT
DTSTAMP:20260424T143119Z
UID:64b9491b15a39908207875@ist.ac.at
DTSTART:20240305T161500
DTEND:20240305T171500
DESCRIPTION:Speaker: Lennart Dabelow\nhosted by Laszlo Erdös\nAbstract: Un
 derstanding the macroscopically observable behavior of large complex syste
 ms based on the laws governing their microscopic constituents is an intrig
 uing fundamental problem. Traditional statistical mechanics introduces "en
 sembles" (e.g.\, microcanonical\, canonical\, ...) to describe many-body s
 ystems at equilibrium. The success of this method relies on the empirical 
 fact that many microscopically distinct systems or states exhibit the same
  macroscopic properties. We first review how this cornerstone of equilibri
 um thermodynamics can be understood within a quantum mechanical framework.
  Thereafter\, we sketch recent ideas to develop a similar ensemble approac
 h for systems and processes away from equilibrium. Adopting this approach\
 , we present specific examples of analytical predictions for the observabl
 e dynamics of many-body quantum systems and verify them by comparison with
  experiments and numerical simulations.
LOCATION:Office Bldg West / Ground floor / Heinzel Seminar Room (I21.EG.101
 )\, ISTA
ORGANIZER:boosthui@ist.ac.at
SUMMARY:Lennart Dabelow: Macroscopic regularity from microscopic complexity
URL:https://talks-calendar.ista.ac.at/events/4811
END:VEVENT
END:VCALENDAR
