BEGIN:VCALENDAR
VERSION:2.0
PRODID:icalendar-ruby
CALSCALE:GREGORIAN
METHOD:PUBLISH
BEGIN:VTIMEZONE
TZID:Europe/Vienna
BEGIN:DAYLIGHT
DTSTART:20240331T030000
TZOFFSETFROM:+0100
TZOFFSETTO:+0200
RRULE:FREQ=YEARLY;BYDAY=-1SU;BYMONTH=3
TZNAME:CEST
END:DAYLIGHT
BEGIN:STANDARD
DTSTART:20231029T020000
TZOFFSETFROM:+0200
TZOFFSETTO:+0100
RRULE:FREQ=YEARLY;BYDAY=-1SU;BYMONTH=10
TZNAME:CET
END:STANDARD
END:VTIMEZONE
BEGIN:VEVENT
DTSTAMP:20260424T151929Z
UID:1708689600@ist.ac.at
DTSTART:20240223T130000
DTEND:20240223T140000
DESCRIPTION:Speaker: James Millen\nhosted by Scott Waitukaitis\nAbstract: I
 n the last few years\, it has become possible to cool levitated nanopartic
 les to the ground-state of an optical potential\, opening the possibility 
 of performing quantum experiments with solid objects made out of billions 
 of atoms. In this talk\, I will outline why understanding and manipulatin
 g the rotation of levitated nanoparticles is key to this endeavour. I will
  introduce research from my group on controlling the motion and rotation o
 f silicon nano-cylinders. and how they can be used for quantum and classic
 al sensing applications. I will also introduce some novel detection and fe
 edback control technology developed in the group\, for tracking and contro
 lling multiple levitated objects simultaneously. Nature Communications 1
 4\, 2638 (2023) (https://www.nature.com/articles/s41467-023-38261-7)Applie
 d Physics Letters 121\, 113506 (2022) (https://aip.scitation.org/doi/10.
 1063/5.0106111)Nature Communications 8\, 1670 (2017) (https://www.nature.
 com/articles/s41467-017-01902-9)Optica 4\, 356-360 (2017) (https://www.os
 apublishing.org/optica/abstract.cfm?uri=optica-4-3-356)
LOCATION:Moonstone Bldg / Ground floor / Seminar Room F\, ISTA
ORGANIZER:cpetz@ist.ac.at
SUMMARY:James Millen: Rotational control of nanoparticles levitated in vacu
 um
URL:https://talks-calendar.ista.ac.at/events/4802
END:VEVENT
END:VCALENDAR
