BEGIN:VCALENDAR
VERSION:2.0
PRODID:icalendar-ruby
CALSCALE:GREGORIAN
METHOD:PUBLISH
BEGIN:VTIMEZONE
TZID:Europe/Vienna
BEGIN:DAYLIGHT
DTSTART:20240331T030000
TZOFFSETFROM:+0100
TZOFFSETTO:+0200
RRULE:FREQ=YEARLY;BYDAY=-1SU;BYMONTH=3
TZNAME:CEST
END:DAYLIGHT
BEGIN:STANDARD
DTSTART:20231029T020000
TZOFFSETFROM:+0200
TZOFFSETTO:+0100
RRULE:FREQ=YEARLY;BYDAY=-1SU;BYMONTH=10
TZNAME:CET
END:STANDARD
END:VTIMEZONE
BEGIN:VEVENT
DTSTAMP:20260424T140826Z
UID:64b9491b15a2b566778610@ist.ac.at
DTSTART:20240220T161500
DTEND:20240220T171500
DESCRIPTION:Speaker: Noema Nicolussi\nhosted by Jan Maas\nAbstract: There a
 re two different notions of a Laplacian operator associated with infinite 
 graphs: discrete Laplacians and quantum graphs. Both objects have a venera
 ble history and their spectral theory relates to several diverse branches 
 of mathematics (random walks\, combinatorics\, geometric group theory\, ..
 .). In our talk we explore connections between these two types of operator
 s (spectral\, parabolic and geometric properties)\, and exploit these rela
 tions to prove a number of new results in spectral theory for both setting
 s. The talk is based on joint work with Aleksey Kostenko (Ljubljana&Vienna
 ) and Mark Malamud (Donetsk).
LOCATION:Office Bldg West / Ground floor / Heinzel Seminar Room (I21.EG.101
 )\, ISTA
ORGANIZER:boosthui@ist.ac.at
SUMMARY:Noema Nicolussi: Laplacians on Infinite Graphs
URL:https://talks-calendar.ista.ac.at/events/4800
END:VEVENT
END:VCALENDAR
