BEGIN:VCALENDAR
VERSION:2.0
PRODID:icalendar-ruby
CALSCALE:GREGORIAN
METHOD:PUBLISH
BEGIN:VTIMEZONE
TZID:Europe/Vienna
BEGIN:DAYLIGHT
DTSTART:20240331T030000
TZOFFSETFROM:+0100
TZOFFSETTO:+0200
RRULE:FREQ=YEARLY;BYDAY=-1SU;BYMONTH=3
TZNAME:CEST
END:DAYLIGHT
BEGIN:STANDARD
DTSTART:20231029T020000
TZOFFSETFROM:+0200
TZOFFSETTO:+0100
RRULE:FREQ=YEARLY;BYDAY=-1SU;BYMONTH=10
TZNAME:CET
END:STANDARD
END:VTIMEZONE
BEGIN:VEVENT
DTSTAMP:20260424T074538Z
UID:1711033200@ist.ac.at
DTSTART:20240321T160000
DTEND:20240322T160000
DESCRIPTION:hosted by Prof. Nova Cypher & ISTA Cabinet Noir\nAbstract: Nova
  Cyhper\, ISTA's renowned expert in radio astronomy\, is looking for puzz
 le enthusiasts\, crossword crackers\, and mystery lovers on campus who dar
 e to decode a mysterious radio signal recently received by the Cypher grou
 p. An exciting interdisciplinary puzzle adventure awaits - puzzle experts 
 and beginners alike! Sign up below!For the first time\, ISTA is organizing
  a puzzle hunt featuring puzzles designed by ISTA scientists for employees
  of ISTA . On Thursday\, March 21st\, 2024\, at 4 pm\, the search for the 
 ISTA egg begins. Participants sign up as teams of up to five puzzle solver
 s and are given 24 hours to navigate through a jungle of entangled interdi
 sciplinary puzzles. The following day\, on Friday\, March 22nd\, at 4 pm\,
  the winning team will be announced\, and solutions to all puzzles present
 ed. The puzzles are designed to cater to both experienced puzzle solvers a
 nd beginners. Furthermore\, while 24 hours are set as the time limit\, amb
 itious teams may solve all puzzles in considerably less time. Brain food\,
  in the form of pizza\, snacks\, and drinks\, will be provided on Thursday
  evening\, and the closing act on Friday. Will you and your team of up to 
 5 interdisciplinary puzzlers be the first to find the long-awaited ISTA eg
 g and uncover the mystery of the puzzling signal? Start:           
             Thursday\, March 21\, 2024 at Moonstone Seminar Center 
                                 3.30 pm On-site registrati
 on & starter kits                                 4 pm st
 art of the ISTA Egg HuntPrize Ceremony:     Friday\, March 22\, 2024 - 
 4 pm at the Raiffeisen Lecture Hall
LOCATION:Moonstone Seminar Center + Raiffeisen Lecture Hall\, ISTA
ORGANIZER:theresia.hammerl@ista.ac.at
SUMMARY:ISTA Egg Hunt
URL:https://talks-calendar.ista.ac.at/events/4797
END:VEVENT
END:VCALENDAR
