BEGIN:VCALENDAR
VERSION:2.0
PRODID:icalendar-ruby
CALSCALE:GREGORIAN
METHOD:PUBLISH
BEGIN:VTIMEZONE
TZID:Europe/Vienna
BEGIN:DAYLIGHT
DTSTART:20240331T030000
TZOFFSETFROM:+0100
TZOFFSETTO:+0200
RRULE:FREQ=YEARLY;BYDAY=-1SU;BYMONTH=3
TZNAME:CEST
END:DAYLIGHT
BEGIN:STANDARD
DTSTART:20241027T020000
TZOFFSETFROM:+0200
TZOFFSETTO:+0100
RRULE:FREQ=YEARLY;BYDAY=-1SU;BYMONTH=10
TZNAME:CET
END:STANDARD
END:VTIMEZONE
BEGIN:VEVENT
DTSTAMP:20260424T041221Z
UID:1712048400@ist.ac.at
DTSTART:20240402T110000
DTEND:20240402T120000
DESCRIPTION:Speaker: Martin Ringbauer\nhosted by Maksym Serbyn\nAbstract: C
 urrent quantum computers and simulators are almost exclusively built for b
 inary information processing. Yet\, not only are underlying quantum inform
 ation carriers almost always inherently multilevel systems\, also many qua
 ntum simulation applications are naturally formulated in terms of high-dim
 ensional Hilbert spaces. I will discuss the opportunities and challenges f
 or universal quantum information processing with qudits in a trapped-ion s
 ystem. I will then show how we can use these systems not only to natively 
 simulate high-dimensional problems such as lattice gauge theories\, but al
 so to drastically improve the experimental overheads in the characterizati
 on of quantum states and the training of variational circuits.
LOCATION:Heinzel Seminar Room / Ground Floor / Office Building West\, ISTA
ORGANIZER:
SUMMARY:Martin Ringbauer: Quantum computing with trapped-ion qudits
URL:https://talks-calendar.ista.ac.at/events/4713
END:VEVENT
END:VCALENDAR
