BEGIN:VCALENDAR
VERSION:2.0
PRODID:icalendar-ruby
CALSCALE:GREGORIAN
METHOD:PUBLISH
BEGIN:VTIMEZONE
TZID:Europe/Vienna
BEGIN:DAYLIGHT
DTSTART:20240331T030000
TZOFFSETFROM:+0100
TZOFFSETTO:+0200
RRULE:FREQ=YEARLY;BYDAY=-1SU;BYMONTH=3
TZNAME:CEST
END:DAYLIGHT
BEGIN:STANDARD
DTSTART:20231029T020000
TZOFFSETFROM:+0200
TZOFFSETTO:+0100
RRULE:FREQ=YEARLY;BYDAY=-1SU;BYMONTH=10
TZNAME:CET
END:STANDARD
END:VTIMEZONE
BEGIN:VEVENT
DTSTAMP:20260424T090539Z
UID:6582c460184ec210760584@ist.ac.at
DTSTART:20240110T110000
DTEND:20240110T120000
DESCRIPTION:Speaker: Aondoyima Gerald Ioratim-Uba\nhosted by Andela Saric\n
 Abstract: Convergence extension\, the simultaneous elongation of tissue al
 ong one axis while narrowing along a perpendicular axis\, occurs during em
 bryonic development. It is a fundamental process that contributes to shapi
 ng the organism and it happens in many different species and tissue types.
  I will present a minimal continuum model\, that can be directly linked to
  the controlling microscopic biochemistry\, which shows spontaneous conver
 gence extension. It is comprised of a 2D viscoelastic active material with
  a mechano-chemical active feedback mechanism coupled to a substrate via f
 riction. Robust convergent extension behaviour emerges beyond a critical v
 alue of the activity parameter and is controlled by the boundary condition
 s and the coupling to the substrate. Oscillations and spatial patterns als
 o emerge in this model when internal dissipation dominates over friction\,
  as well as in the active elastic limit.
LOCATION:Moonstone Bldg / Ground floor / Seminar Room F (I24.EG.030f)\, IST
 A
ORGANIZER:cpetz@ist.ac.at
SUMMARY:Aondoyima Gerald Ioratim-Uba: Mechano-chemical active feedback gene
 rates convergence extension in epithelial tissue
URL:https://talks-calendar.ista.ac.at/events/4694
END:VEVENT
END:VCALENDAR
