BEGIN:VCALENDAR
VERSION:2.0
PRODID:icalendar-ruby
CALSCALE:GREGORIAN
METHOD:PUBLISH
BEGIN:VTIMEZONE
TZID:Europe/Vienna
BEGIN:DAYLIGHT
DTSTART:20240331T030000
TZOFFSETFROM:+0100
TZOFFSETTO:+0200
RRULE:FREQ=YEARLY;BYDAY=-1SU;BYMONTH=3
TZNAME:CEST
END:DAYLIGHT
BEGIN:STANDARD
DTSTART:20231029T020000
TZOFFSETFROM:+0200
TZOFFSETTO:+0100
RRULE:FREQ=YEARLY;BYDAY=-1SU;BYMONTH=10
TZNAME:CET
END:STANDARD
END:VTIMEZONE
BEGIN:VEVENT
DTSTAMP:20260424T143446Z
UID:656f2fbd93cf6720435371@ist.ac.at
DTSTART:20231220T160000
DTEND:20231220T170000
DESCRIPTION:Speaker: Florent Ginhoux\nhosted by Sandra Siegert
LOCATION:Moonstone Bldg / Ground floor / Seminar Room G (I24.EG.030g)\, IST
 A
ORGANIZER:OmerHalil.Unal@ist.ac.at
SUMMARY:Florent Ginhoux: Microglia functions from development to neurodegen
 eration
URL:https://talks-calendar.ista.ac.at/events/4650
END:VEVENT
END:VCALENDAR
