BEGIN:VCALENDAR
VERSION:2.0
PRODID:icalendar-ruby
CALSCALE:GREGORIAN
METHOD:PUBLISH
BEGIN:VTIMEZONE
TZID:Europe/Vienna
BEGIN:DAYLIGHT
DTSTART:20240331T030000
TZOFFSETFROM:+0100
TZOFFSETTO:+0200
RRULE:FREQ=YEARLY;BYDAY=-1SU;BYMONTH=3
TZNAME:CEST
END:DAYLIGHT
BEGIN:STANDARD
DTSTART:20231029T020000
TZOFFSETFROM:+0200
TZOFFSETTO:+0100
RRULE:FREQ=YEARLY;BYDAY=-1SU;BYMONTH=10
TZNAME:CET
END:STANDARD
END:VTIMEZONE
BEGIN:VEVENT
DTSTAMP:20260424T143320Z
UID:1702555200@ist.ac.at
DTSTART:20231214T130000
DTEND:20231214T150000
DESCRIPTION:Speaker: Bartosz Naskręcki\nhosted by Tim Browning \nAbstract:
  In this talk we will discuss some new developments in higher moment sums 
 of 1-parametric families of elliptic curves. These sums have connections t
 o modular forms and algebraic curves. I will sketch a result about the sec
 ond moment of cubic curves leading to a connection with intermediate Jacob
 ians in threefolds. Next we will discuss proofs of modularity of certain r
 igid Calabi-Yau threefolds which uses directly higher moments\, universal 
 families of elliptic curves and Deligne’s results\, avoiding completely 
 the standard approach via Faltings-Serre method.
LOCATION:Heinzel Seminar Room (I21.EG.101)\, Office Building West\, ISTA\, 
 ISTA
ORGANIZER:birgit.oosthuizen-noczil@ist.ac.at 
SUMMARY:Bartosz Naskręcki: Higher moments of elliptic curves 
URL:https://talks-calendar.ista.ac.at/events/4644
END:VEVENT
END:VCALENDAR
