BEGIN:VCALENDAR
VERSION:2.0
PRODID:icalendar-ruby
CALSCALE:GREGORIAN
METHOD:PUBLISH
BEGIN:VTIMEZONE
TZID:Europe/Vienna
BEGIN:DAYLIGHT
DTSTART:20240331T030000
TZOFFSETFROM:+0100
TZOFFSETTO:+0200
RRULE:FREQ=YEARLY;BYDAY=-1SU;BYMONTH=3
TZNAME:CEST
END:DAYLIGHT
BEGIN:STANDARD
DTSTART:20231029T020000
TZOFFSETFROM:+0200
TZOFFSETTO:+0100
RRULE:FREQ=YEARLY;BYDAY=-1SU;BYMONTH=10
TZNAME:CET
END:STANDARD
END:VTIMEZONE
BEGIN:VEVENT
DTSTAMP:20260424T143445Z
UID:6569e4504b6fd332480970@ist.ac.at
DTSTART:20240202T130000
DTEND:20240202T141500
DESCRIPTION:Speaker: Baptiste Coquinot\nhosted by Mikhail Lemeshko\nAbstrac
 t: An electronic current driven through a conductor can induce a current i
 n another conductor through the famous Coulomb drag effect. Similar phenom
 ena have been reported at the interface between a moving fluid and a condu
 ctor\, but their interpretation has remained elusive. I will present our r
 ecent theoretical work\, which predicts that a globally neutral liquid can
  generate an electronic current in the solid wall along which it flows [1]
 \, building on the idea of solid-liquid quantum friction [2]. This hydrody
 namic Coulomb drag originates from both the Coulomb interactions between t
 he liquids charge fluctuations and the solids charge carriers\, and the li
 quid-electron interaction mediated by the solids phonons\, consistently wi
 th experimental observations [3]. Our results provide a roadmap for contro
 lling nanoscale liquid flows at the quantum level. In particular\, we pred
 ict a fluidic equivalent of electron tunnelling\, termed flow tunnelling: 
 a flowing liquid may transfer momentum to another liquid through a solid w
 all. We directly observe this phenomenon in semi-classical molecular dynam
 ics simulations\, paving the way to a wealth of nanofluidic applications i
 nspired by condensed matter physics.
LOCATION:Office Bldg West / Ground floor / Heinzel Seminar Room (I21.EG.101
 )\, ISTA
ORGANIZER:dboukalo@ist.ac.at
SUMMARY:Baptiste Coquinot: From Electro-Fluidic Coupling to Friction Engine
 ering: electric current generation and flow tunnelling
URL:https://talks-calendar.ista.ac.at/events/4635
END:VEVENT
END:VCALENDAR
