BEGIN:VCALENDAR
VERSION:2.0
PRODID:icalendar-ruby
CALSCALE:GREGORIAN
METHOD:PUBLISH
BEGIN:VTIMEZONE
TZID:Europe/Vienna
BEGIN:DAYLIGHT
DTSTART:20240331T030000
TZOFFSETFROM:+0100
TZOFFSETTO:+0200
RRULE:FREQ=YEARLY;BYDAY=-1SU;BYMONTH=3
TZNAME:CEST
END:DAYLIGHT
BEGIN:STANDARD
DTSTART:20231029T020000
TZOFFSETFROM:+0200
TZOFFSETTO:+0100
RRULE:FREQ=YEARLY;BYDAY=-1SU;BYMONTH=10
TZNAME:CET
END:STANDARD
END:VTIMEZONE
BEGIN:VEVENT
DTSTAMP:20260424T143129Z
UID:1705053600@ist.ac.at
DTSTART:20240112T110000
DTEND:20240112T120000
DESCRIPTION:Speaker: Stefan Freunberger\nhosted by Georgios Katsaros\nAbstr
 act: Life demonstrates powerful energy storage using the redox chemistry o
 f main group elements. Yet\, human-made electrochemical energy storage rel
 ies on elements\, which are often scarce\, toxic\, and energy-hungry in pr
 oduction and recycling. The redox chemistry of main group elements known t
 o the biosphere would therefore be key to more sustainable energy storage.
  On the one hand\, sulphur and oxygen can be used directly in metal-sulphu
 r or metal-oxygen batteries or anionic redox materials. Such batteries del
 iver the largest possible energies. However\, the solid\, insulating produ
 cts are challening\, and hence (electro)chemistry and phase evolution are 
 critical to be understood. On the other hand\, organic redox active materi
 als could be sourced from and recycled by living nature\, but require fund
 amental advances to compete with existing technology. Here\, I discuss rec
 ent progress with new materials and fundamental understanding of the react
 ion mechanisms underpinning main group redox chemistries as well as the ch
 allenges ahead.
LOCATION:Raiffeisen Lecture Hall\, ISTA
ORGANIZER:arinya.eller@ist.ac.at
SUMMARY:Stefan Freunberger: Materials and reaction mechanisms in main group
  redox chemistries
URL:https://talks-calendar.ista.ac.at/events/4607
END:VEVENT
END:VCALENDAR
