BEGIN:VCALENDAR
VERSION:2.0
PRODID:icalendar-ruby
CALSCALE:GREGORIAN
METHOD:PUBLISH
BEGIN:VTIMEZONE
TZID:Europe/Vienna
BEGIN:DAYLIGHT
DTSTART:20240331T030000
TZOFFSETFROM:+0100
TZOFFSETTO:+0200
RRULE:FREQ=YEARLY;BYDAY=-1SU;BYMONTH=3
TZNAME:CEST
END:DAYLIGHT
BEGIN:STANDARD
DTSTART:20231029T020000
TZOFFSETFROM:+0200
TZOFFSETTO:+0100
RRULE:FREQ=YEARLY;BYDAY=-1SU;BYMONTH=10
TZNAME:CET
END:STANDARD
END:VTIMEZONE
BEGIN:VEVENT
DTSTAMP:20260424T142959Z
UID:1700491500@ist.ac.at
DTSTART:20231120T154500
DTEND:20231120T164500
DESCRIPTION:Speaker: Isao Sauzedde\nhosted by M. Beiglböck\, N. Berestycki
 \, L. Erdös\, J. Maas\, F. Toninelli\, E. Schertzer\nAbstract: We will ta
 lk about the determinant of a Laplacian on a continuous space of dimension
  2 or 3. As a motivating example\, we will see that this determinant appea
 rs naturally as the partition function of a Gaussian free field\, and that
  it is necessary to define these determinants in order to pose properly so
 me more complicated interacting model. We will then define rigorously thes
 e determinants\, through the so-called zeta-regularization method\, and ex
 plain why indeed they can be interpreted as determinants. Then\, we will d
 efine the Brownian loop soup and show that the determinant we have defined
  can be expressed as the expectation of a product over the Brownian loop s
 oup. If the time allows it\, we will then look at a few things this formu
 la allows to deduce about the determinant\, and at another application of 
 these determinants to the construction of a very powerful topological inva
 riant (i.e. to show that "spheres and tori don't look alike"). The talk i
 s based on a joint work with P. Perruchaud (University of Luxembourg).
LOCATION:Mondi 2 (I01.01.008)\, Central Building\, ISTA
ORGANIZER:birgit.oosthuizen-noczil@ist.ac.at 
SUMMARY:Isao Sauzedde: Stochastic formulas for determinants of Laplacians
URL:https://talks-calendar.ista.ac.at/events/4604
END:VEVENT
END:VCALENDAR
