BEGIN:VCALENDAR
VERSION:2.0
PRODID:icalendar-ruby
CALSCALE:GREGORIAN
METHOD:PUBLISH
BEGIN:VTIMEZONE
TZID:Europe/Vienna
BEGIN:DAYLIGHT
DTSTART:20240331T030000
TZOFFSETFROM:+0100
TZOFFSETTO:+0200
RRULE:FREQ=YEARLY;BYDAY=-1SU;BYMONTH=3
TZNAME:CEST
END:DAYLIGHT
BEGIN:STANDARD
DTSTART:20231029T020000
TZOFFSETFROM:+0200
TZOFFSETTO:+0100
RRULE:FREQ=YEARLY;BYDAY=-1SU;BYMONTH=10
TZNAME:CET
END:STANDARD
END:VTIMEZONE
BEGIN:VEVENT
DTSTAMP:20260424T204919Z
UID:1700150400@ist.ac.at
DTSTART:20231116T170000
DTEND:20231116T180000
DESCRIPTION:Speaker: Sophie Falkeis\nhosted by VISTA
LOCATION:Moonstone -2 Lab\, ISTA
ORGANIZER:
SUMMARY:Sophie Falkeis: Pop-up Show Opening: TURNING THE ECOLOGICAL GEARS
URL:https://talks-calendar.ista.ac.at/events/4603
END:VEVENT
END:VCALENDAR
