BEGIN:VCALENDAR
VERSION:2.0
PRODID:icalendar-ruby
CALSCALE:GREGORIAN
METHOD:PUBLISH
BEGIN:VTIMEZONE
TZID:Europe/Vienna
BEGIN:DAYLIGHT
DTSTART:20240331T030000
TZOFFSETFROM:+0100
TZOFFSETTO:+0200
RRULE:FREQ=YEARLY;BYDAY=-1SU;BYMONTH=3
TZNAME:CEST
END:DAYLIGHT
BEGIN:STANDARD
DTSTART:20231029T020000
TZOFFSETFROM:+0200
TZOFFSETTO:+0100
RRULE:FREQ=YEARLY;BYDAY=-1SU;BYMONTH=10
TZNAME:CET
END:STANDARD
END:VTIMEZONE
BEGIN:VEVENT
DTSTAMP:20260424T143352Z
UID:1702998900@ist.ac.at
DTSTART:20231219T161500
DTEND:20231219T171500
DESCRIPTION:Speaker: Lauro Silini\nhosted by Jan Maas\nAbstract: Hoskins' s
 emigeostrophic equation is one of the most effective meteorological model 
 that represents the formation of transported interfaces (frontogenesis) ov
 er the earth. We will present its surprising connection with the theory o
 f optimal transportation when studied in the periodic and flat case\, and 
 highlight the major difficulties to extend this argument in the curved set
 ting. We prove local-in-time existence of smooth solutions in subdomains 
 of a rotating sphere taking advantage of an alternative approach based on 
 peculiar cancellation properties intrinsic in the equation's structure.
LOCATION:Heinzel Seminar Room (I21.EG.101)\, Office Building West\, ISTA\, 
 ISTA
ORGANIZER:birgit.oosthuizen-noczil@ist.ac.at 
SUMMARY:Lauro Silini: Solutions of the semigeostrophic equation on a rotati
 ng sphere
URL:https://talks-calendar.ista.ac.at/events/4594
END:VEVENT
END:VCALENDAR
