BEGIN:VCALENDAR
VERSION:2.0
PRODID:icalendar-ruby
CALSCALE:GREGORIAN
METHOD:PUBLISH
BEGIN:VTIMEZONE
TZID:Europe/Vienna
BEGIN:DAYLIGHT
DTSTART:20240331T030000
TZOFFSETFROM:+0100
TZOFFSETTO:+0200
RRULE:FREQ=YEARLY;BYDAY=-1SU;BYMONTH=3
TZNAME:CEST
END:DAYLIGHT
BEGIN:STANDARD
DTSTART:20231029T020000
TZOFFSETFROM:+0200
TZOFFSETTO:+0100
RRULE:FREQ=YEARLY;BYDAY=-1SU;BYMONTH=10
TZNAME:CET
END:STANDARD
END:VTIMEZONE
BEGIN:VEVENT
DTSTAMP:20260424T114046Z
UID:1700820000@ist.ac.at
DTSTART:20231124T110000
DTEND:20231124T190000
DESCRIPTION:Speaker: Masaryk University\, TU Graz\, University of Passau\nh
 osted by Matthew Kwan
LOCATION:Heinzel Seminar Room\, ISTA
ORGANIZER:
SUMMARY:Masaryk University\, TU Graz\, University of Passau: Discrete Maths
  Meeting
URL:https://talks-calendar.ista.ac.at/events/4592
END:VEVENT
END:VCALENDAR
