BEGIN:VCALENDAR
VERSION:2.0
PRODID:icalendar-ruby
CALSCALE:GREGORIAN
METHOD:PUBLISH
BEGIN:VTIMEZONE
TZID:Europe/Vienna
BEGIN:DAYLIGHT
DTSTART:20240331T030000
TZOFFSETFROM:+0100
TZOFFSETTO:+0200
RRULE:FREQ=YEARLY;BYDAY=-1SU;BYMONTH=3
TZNAME:CEST
END:DAYLIGHT
BEGIN:STANDARD
DTSTART:20231029T020000
TZOFFSETFROM:+0200
TZOFFSETTO:+0100
RRULE:FREQ=YEARLY;BYDAY=-1SU;BYMONTH=10
TZNAME:CET
END:STANDARD
END:VTIMEZONE
BEGIN:VEVENT
DTSTAMP:20260424T063056Z
UID:1699974900@ist.ac.at
DTSTART:20231114T161500
DTEND:20231114T171500
DESCRIPTION:Speaker: Giovanni Brigati\nhosted by Jan Maas\nAbstract: The lo
 garithmic Sobolev inequality compares the relative (with respect to the st
 andard Gaussian) entropy of a density with its relative Fisher information
 . Having the sharp constant and the optimal functions been established\, t
 he question of stability is posed. In this talk\, new constructive stabili
 ty results due to Jean Dolbeault\, Nikita Simonov\, and the speaker are di
 scussed. Our technique relies on refined properties of the heat flow\, in 
 particular the carrè du champ method. 
LOCATION:Heinzel Seminar Room (I21.EG.101)\, Office Building West\, ISTA\, 
 ISTA
ORGANIZER:birgit.oosthuizen-noczil@ist.ac.at 
SUMMARY:Giovanni Brigati: Stability for the logarithmic Sobolev inequality
URL:https://talks-calendar.ista.ac.at/events/4587
END:VEVENT
END:VCALENDAR
