BEGIN:VCALENDAR
VERSION:2.0
PRODID:icalendar-ruby
CALSCALE:GREGORIAN
METHOD:PUBLISH
BEGIN:VTIMEZONE
TZID:Europe/Vienna
BEGIN:DAYLIGHT
DTSTART:20240331T030000
TZOFFSETFROM:+0100
TZOFFSETTO:+0200
RRULE:FREQ=YEARLY;BYDAY=-1SU;BYMONTH=3
TZNAME:CEST
END:DAYLIGHT
BEGIN:STANDARD
DTSTART:20231029T020000
TZOFFSETFROM:+0200
TZOFFSETTO:+0100
RRULE:FREQ=YEARLY;BYDAY=-1SU;BYMONTH=10
TZNAME:CET
END:STANDARD
END:VTIMEZONE
BEGIN:VEVENT
DTSTAMP:20260424T143404Z
UID:6543a72ad54a7800525377@ist.ac.at
DTSTART:20231110T110000
DTEND:20231110T120000
DESCRIPTION:Speaker: Giovanni Volpe\nhosted by Scott Waitukaitis\nAbstract:
  In the last 20 years\, active matter has been a very successful research 
 field\, bridging the fundamental physics of nonequilibrium thermodynamics 
 with applications in robotics\, biology\, and medicine. It deals with acti
 ve particles\, which\, differently from passive Brownian particles\, can h
 arness energy to generate complex motions and emerging behaviors. Most ac
 tive-matter experiments are performed with microscopic particles and requi
 re the use of advanced microfabrication and microscopy techniques. Here\, 
 we propose some macroscopic experiments with active matter employing comme
 rcially available toy robots\, i.e.\, the Hexbugs. We demonstrate how they
  can be easily modified to perform regular and chiral active Brownian moti
 on. Then\, we show that they can interact with passive objects present in 
 their environment and\, depending on their shape\, set them in motion and 
 rotation. Furthermore\, we show that obstacles in the environment can be 
 employed to sort them based on their motility and chirality. Finally\, we 
 demonstrate the emergence of Casimir-like activity-induced attraction betw
 een planar objects in the presence of active particles in the environment.
LOCATION:Moonstone Bldg / Ground floor / Seminar Room F (I24.EG.030f)\, IST
 A
ORGANIZER:vdiazmel@ist.ac.at
SUMMARY:Giovanni Volpe: Playing with Active Matter
URL:https://talks-calendar.ista.ac.at/events/4583
END:VEVENT
END:VCALENDAR
