BEGIN:VCALENDAR
VERSION:2.0
PRODID:icalendar-ruby
CALSCALE:GREGORIAN
METHOD:PUBLISH
BEGIN:VTIMEZONE
TZID:Europe/Vienna
BEGIN:DAYLIGHT
DTSTART:20240331T030000
TZOFFSETFROM:+0100
TZOFFSETTO:+0200
RRULE:FREQ=YEARLY;BYDAY=-1SU;BYMONTH=3
TZNAME:CEST
END:DAYLIGHT
BEGIN:STANDARD
DTSTART:20231029T020000
TZOFFSETFROM:+0200
TZOFFSETTO:+0100
RRULE:FREQ=YEARLY;BYDAY=-1SU;BYMONTH=10
TZNAME:CET
END:STANDARD
END:VTIMEZONE
BEGIN:VEVENT
DTSTAMP:20260424T142959Z
UID:64a2d6ce68db2234694767@ist.ac.at
DTSTART:20231031T160000
DTEND:20231031T170000
DESCRIPTION:Speaker: Heinz Beck\nhosted by Peter Jonas\nAbstract: TBA
LOCATION:Central Bldg / O1 / Mondi 2 (I01.O1.008)\, ISTA
ORGANIZER:Eleftheria.KralliBeller@ist.ac.at
SUMMARY:Heinz Beck: The dentate gyrus: A pattern separator driving formatio
 n of precise memories
URL:https://talks-calendar.ista.ac.at/events/4565
END:VEVENT
END:VCALENDAR
