BEGIN:VCALENDAR
VERSION:2.0
PRODID:icalendar-ruby
CALSCALE:GREGORIAN
METHOD:PUBLISH
BEGIN:VTIMEZONE
TZID:Europe/Vienna
BEGIN:DAYLIGHT
DTSTART:20240331T030000
TZOFFSETFROM:+0100
TZOFFSETTO:+0200
RRULE:FREQ=YEARLY;BYDAY=-1SU;BYMONTH=3
TZNAME:CEST
END:DAYLIGHT
BEGIN:STANDARD
DTSTART:20231029T020000
TZOFFSETFROM:+0200
TZOFFSETTO:+0100
RRULE:FREQ=YEARLY;BYDAY=-1SU;BYMONTH=10
TZNAME:CET
END:STANDARD
END:VTIMEZONE
BEGIN:VEVENT
DTSTAMP:20260425T105030Z
UID:1698926400@ist.ac.at
DTSTART:20231102T130000
DTEND:20231102T150000
DESCRIPTION:Speaker: Vivian Kuperberg\nhosted by Tim Browning 
LOCATION:Heinzel Seminar Room (I21.EG.101)\, Office Building West\, ISTA\, 
 ISTA
ORGANIZER:birgit.oosthuizen-noczil@ist.ac.at 
SUMMARY:Vivian Kuperberg: Sums of odd-ly many fractions and the distributio
 n of primes
URL:https://talks-calendar.ista.ac.at/events/4562
END:VEVENT
END:VCALENDAR
