BEGIN:VCALENDAR
VERSION:2.0
PRODID:icalendar-ruby
CALSCALE:GREGORIAN
METHOD:PUBLISH
BEGIN:VTIMEZONE
TZID:Europe/Vienna
BEGIN:DAYLIGHT
DTSTART:20240331T030000
TZOFFSETFROM:+0100
TZOFFSETTO:+0200
RRULE:FREQ=YEARLY;BYDAY=-1SU;BYMONTH=3
TZNAME:CEST
END:DAYLIGHT
BEGIN:STANDARD
DTSTART:20231029T020000
TZOFFSETFROM:+0200
TZOFFSETTO:+0100
RRULE:FREQ=YEARLY;BYDAY=-1SU;BYMONTH=10
TZNAME:CET
END:STANDARD
END:VTIMEZONE
BEGIN:VEVENT
DTSTAMP:20260424T114138Z
UID:1698915600@ist.ac.at
DTSTART:20231102T100000
DTEND:20231102T110000
DESCRIPTION:Speaker: Prof Sigrid Stagl\nhosted by Sustainability Group
LOCATION:Heinzel Seminar Room\, ISTA
ORGANIZER:
SUMMARY:Prof Sigrid Stagl: Sustainable transformation of our economic syste
 m
URL:https://talks-calendar.ista.ac.at/events/4528
END:VEVENT
END:VCALENDAR
