BEGIN:VCALENDAR
VERSION:2.0
PRODID:icalendar-ruby
CALSCALE:GREGORIAN
METHOD:PUBLISH
BEGIN:VTIMEZONE
TZID:Europe/Vienna
BEGIN:DAYLIGHT
DTSTART:20240331T030000
TZOFFSETFROM:+0100
TZOFFSETTO:+0200
RRULE:FREQ=YEARLY;BYDAY=-1SU;BYMONTH=3
TZNAME:CEST
END:DAYLIGHT
BEGIN:STANDARD
DTSTART:20231029T020000
TZOFFSETFROM:+0200
TZOFFSETTO:+0100
RRULE:FREQ=YEARLY;BYDAY=-1SU;BYMONTH=10
TZNAME:CET
END:STANDARD
END:VTIMEZONE
BEGIN:VEVENT
DTSTAMP:20260424T040550Z
UID:1709028000@ist.ac.at
DTSTART:20240227T110000
DTEND:20240227T120000
DESCRIPTION:Speaker: George Jackeli\nhosted by Maksym Serbyn\nAbstract: I w
 ill theoretically explore how the relativistic spin-orbit coupling in quan
 tum materials could give rise to the unusual ordered\, amorphous or (quant
 um) liquid states of the spin-orbital and spin-lattice degrees of freedom.
  From this perspective\, I will discuss correlated transition metal compou
 nds and provide an overview of the available experimental results.
LOCATION:Heinzel Seminar Room\, ISTA
ORGANIZER:dboukalo@ist.ac.at
SUMMARY:George Jackeli: Spin-Orbit Entangled Quantum Materials: from Unusua
 l Order to Liquid States
URL:https://talks-calendar.ista.ac.at/events/4502
END:VEVENT
END:VCALENDAR
