BEGIN:VCALENDAR
VERSION:2.0
PRODID:icalendar-ruby
CALSCALE:GREGORIAN
METHOD:PUBLISH
BEGIN:VTIMEZONE
TZID:Europe/Vienna
BEGIN:DAYLIGHT
DTSTART:20230326T030000
TZOFFSETFROM:+0100
TZOFFSETTO:+0200
RRULE:FREQ=YEARLY;BYDAY=-1SU;BYMONTH=3
TZNAME:CEST
END:DAYLIGHT
BEGIN:STANDARD
DTSTART:20231029T020000
TZOFFSETFROM:+0200
TZOFFSETTO:+0100
RRULE:FREQ=YEARLY;BYDAY=-1SU;BYMONTH=10
TZNAME:CET
END:STANDARD
END:VTIMEZONE
BEGIN:VEVENT
DTSTAMP:20260424T102208Z
UID:1696941180@ist.ac.at
DTSTART:20231010T143300
DTEND:20231010T143300
DESCRIPTION:Speaker: Teun Bousema\nhosted by Jeroen Dobbelaere\nAbstract: T
 he footprint of academic travel is as big as the footprint of a country li
 ke Iceland. As a malaria researcher\, Teun Bousema has several field stu
 dy projects but is a strong advocate for reducing flights were ever possib
 le. Monitoring his footprint from his research and the analyzing the f
 ootprint from meetings and grant interviews\,he published several papers
  on why we need to reduce our footprint from flying. He started several a
 ctions in his institute and beyond to fly less and make academic research
  more sustainable.  
LOCATION:Online\, ISTA
ORGANIZER:Jeroen.dobbelaere@ist.ac.at
SUMMARY:Teun Bousema: Towards thoughtful academic travel
URL:https://talks-calendar.ista.ac.at/events/4495
END:VEVENT
END:VCALENDAR
