BEGIN:VCALENDAR
VERSION:2.0
PRODID:icalendar-ruby
CALSCALE:GREGORIAN
METHOD:PUBLISH
BEGIN:VTIMEZONE
TZID:Europe/Vienna
BEGIN:DAYLIGHT
DTSTART:20240331T030000
TZOFFSETFROM:+0100
TZOFFSETTO:+0200
RRULE:FREQ=YEARLY;BYDAY=-1SU;BYMONTH=3
TZNAME:CEST
END:DAYLIGHT
BEGIN:STANDARD
DTSTART:20231029T020000
TZOFFSETFROM:+0200
TZOFFSETTO:+0100
RRULE:FREQ=YEARLY;BYDAY=-1SU;BYMONTH=10
TZNAME:CET
END:STANDARD
END:VTIMEZONE
BEGIN:VEVENT
DTSTAMP:20260424T202022Z
UID:1699516800@ist.ac.at
DTSTART:20231109T090000
DTEND:20231109T200000
DESCRIPTION:Speaker: Young Scientist Symposium 2023\nhosted by Young Scient
 ist Symposium Organizing Committee\nAbstract: Discover the Future of Scien
 ce at YSS 2023 - a Scientific symposium organized by Ph.D. Students and Po
 stdocs at the Institute of Science and Technology Austria (ISTA). This yea
 r's symposium will be dedicated to in-depth explorations of the applicatio
 ns and transformative impacts of Artificial Intelligence (AI) and computat
 ional research\, across the domains of biology\, physics\, mathematics\, c
 hemistry\, neuroscience\, and computer science.Join Plenary Lectures\, Pre
 sent Your Research\, and Explore AI's Impact on Scientific Horizons!
LOCATION:Moonstone Building \, ISTA
ORGANIZER:
SUMMARY:Young Scientist Symposium 2023: Young Scientist Symposium 2023
URL:https://talks-calendar.ista.ac.at/events/4494
END:VEVENT
END:VCALENDAR
