BEGIN:VCALENDAR
VERSION:2.0
PRODID:icalendar-ruby
CALSCALE:GREGORIAN
METHOD:PUBLISH
BEGIN:VTIMEZONE
TZID:Europe/Vienna
BEGIN:DAYLIGHT
DTSTART:20240331T030000
TZOFFSETFROM:+0100
TZOFFSETTO:+0200
RRULE:FREQ=YEARLY;BYDAY=-1SU;BYMONTH=3
TZNAME:CEST
END:DAYLIGHT
BEGIN:STANDARD
DTSTART:20231029T020000
TZOFFSETFROM:+0200
TZOFFSETTO:+0100
RRULE:FREQ=YEARLY;BYDAY=-1SU;BYMONTH=10
TZNAME:CET
END:STANDARD
END:VTIMEZONE
BEGIN:VEVENT
DTSTAMP:20260424T143219Z
UID:1700136000@ist.ac.at
DTSTART:20231116T130000
DTEND:20231116T170000
DESCRIPTION:Abstract: Each year\, the Institute of Science and Technology A
 ustria opens its doors to give prospective PhD and internship candidates a
 n insight into what it is like to study and do research at the institute.W
 HAT TO EXPECTThe Virtual Open Day is a great opportunity to explore our pr
 ograms and campus virtually\, wherever you are. The program includes a ran
 ge of live sessions from the Graduate School Office\, academics and stud
 ents. You can find out about the PhD program\, the ISTA research experienc
 e\, the support services\, the ISTA campus\, and much more by attending on
 e of the talks.All the sessions will be interactive\, with opportunities t
 o ask your questions to Graduate School Office staff\, academics and stude
 nts. Introduction to ISTA and the Graduate School1:00 pm – 2:00 pm\, Ce
 ntral European Time (CET) –  ViennaHosted by Maria Trofimova\, Head of
  the Graduate School Office (https://phd.pages.ist.ac.at/about-us/)\, with
  welcome by Eva Benkova (https://ist.ac.at/en/research/benkova-group/)\, 
 Dean of the Graduate School and Gasper Tkacik (https://ist.ac.at/en/resea
 rch/tkacik-group/)\, Deputy to the Dean.Presentation of ISTA Study Tracks 
 (one live session per study track)Computer Science\, 2:15 pm – 3:00 pm\,
  CET\, Vienna timePhysics\, 2:15 pm – 3:00 pm\, CET\, Vienna timeMathema
 tics\, 3:15 pm – 4:00 pm\, CET\, Vienna timeNeuroscience\, 3:15 pm – 4
 :00 pm\, CET\, Vienna timeChemistry & Materials\, 3:15 pm – 4:00 pm\, CE
 T\, Vienna timeData Science & Scientific Computing\, 4:15 pm – 5:00 pm\,
  CET\, Vienna timeBiology\, 4:15 pm – 5:00 pm\, CET\, Vienna time
LOCATION:\, ISTA
ORGANIZER:
SUMMARY:Virtual Student Open Day
URL:https://talks-calendar.ista.ac.at/events/4475
END:VEVENT
END:VCALENDAR
