BEGIN:VCALENDAR
VERSION:2.0
PRODID:icalendar-ruby
CALSCALE:GREGORIAN
METHOD:PUBLISH
BEGIN:VTIMEZONE
TZID:Europe/Vienna
BEGIN:DAYLIGHT
DTSTART:20230326T030000
TZOFFSETFROM:+0100
TZOFFSETTO:+0200
RRULE:FREQ=YEARLY;BYDAY=-1SU;BYMONTH=3
TZNAME:CEST
END:DAYLIGHT
BEGIN:STANDARD
DTSTART:20231029T020000
TZOFFSETFROM:+0200
TZOFFSETTO:+0100
RRULE:FREQ=YEARLY;BYDAY=-1SU;BYMONTH=10
TZNAME:CET
END:STANDARD
END:VTIMEZONE
BEGIN:VEVENT
DTSTAMP:20260424T181759Z
UID:650bf4e335d11867886646@ist.ac.at
DTSTART:20231019T140000
DTEND:20231019T153000
DESCRIPTION:Speaker: Serbyn\, Katsaros\, Fink\nhosted by Hosten\, Fink\, Ka
 tsaros\, Lemeshko\, Serbyn\nAbstract: Maksym Serbyn: Non-equilibrium quant
 um matter through the lens of quantum entanglement  /  Georgios Katsaros: 
 Quantum devices in semiconductors  /  Johannes Fink:Quantum Integrated Dev
 ices
LOCATION:Central Bldg / O1 / Foyer (I01.Foyer (near lecture hall))\, ISTA
ORGANIZER:swiddman@ist.ac.at
SUMMARY:Serbyn\, Katsaros\, Fink: VCQlada Meeting | Conference Session I
URL:https://talks-calendar.ista.ac.at/events/4470
END:VEVENT
END:VCALENDAR
