BEGIN:VCALENDAR
VERSION:2.0
PRODID:icalendar-ruby
CALSCALE:GREGORIAN
METHOD:PUBLISH
BEGIN:VTIMEZONE
TZID:Europe/Vienna
BEGIN:DAYLIGHT
DTSTART:20230326T030000
TZOFFSETFROM:+0100
TZOFFSETTO:+0200
RRULE:FREQ=YEARLY;BYDAY=-1SU;BYMONTH=3
TZNAME:CEST
END:DAYLIGHT
BEGIN:STANDARD
DTSTART:20231029T020000
TZOFFSETFROM:+0200
TZOFFSETTO:+0100
RRULE:FREQ=YEARLY;BYDAY=-1SU;BYMONTH=10
TZNAME:CET
END:STANDARD
END:VTIMEZONE
BEGIN:VEVENT
DTSTAMP:20260424T143233Z
UID:1697533200@ist.ac.at
DTSTART:20231017T110000
DTEND:20231017T120000
DESCRIPTION:Speaker: Andrew Geraci\nhosted by Onur Hosten\nAbstract: Despit
 e the enormous success of the Standard Model of particle physics\, many ba
 sic phenomena around us remain without any satisfactory explanation\, incl
 uding the nature of Dark Matter and Dark Energy\, which together make up 9
 5 percent of our universe. Complementary to high-energy particle colliders
  or large-scale detectors\, a variety of ultra-sensitive tabletop experime
 nts are well-suited to discover a wide range of new phenomena beyond the S
 tandard Model\, where feeble interactions require precision measurements r
 ather than high energies.  In this talk I will describe our experimental 
 efforts using dielectric objects supported by radiation pressure as precis
 ion sensors to search for quantum effects related to gravity\, high-freque
 ncy gravitational waves\, and Dark Matter. I will also discuss The Axion R
 esonant InterAction Detection Experiment (ARIADNE)\, which aims to detect 
 novel short-range spin-dependent interactions. 
LOCATION:Office Bldg West / Ground floor / Heinzel Seminar Room\, ISTA
ORGANIZER:sandra.widdmann@ista.ac.at
SUMMARY:Andrew Geraci: Quantum Colloquium: Optomechanical and spin-based se
 nsing for Fifth forces\, Dark Matter\, and other Beyond the Standard Model
  physics  
URL:https://talks-calendar.ista.ac.at/events/4433
END:VEVENT
END:VCALENDAR
