BEGIN:VCALENDAR
VERSION:2.0
PRODID:icalendar-ruby
CALSCALE:GREGORIAN
METHOD:PUBLISH
BEGIN:VTIMEZONE
TZID:Europe/Vienna
BEGIN:DAYLIGHT
DTSTART:20240331T030000
TZOFFSETFROM:+0100
TZOFFSETTO:+0200
RRULE:FREQ=YEARLY;BYDAY=-1SU;BYMONTH=3
TZNAME:CEST
END:DAYLIGHT
BEGIN:STANDARD
DTSTART:20231029T020000
TZOFFSETFROM:+0200
TZOFFSETTO:+0100
RRULE:FREQ=YEARLY;BYDAY=-1SU;BYMONTH=10
TZNAME:CET
END:STANDARD
END:VTIMEZONE
BEGIN:VEVENT
DTSTAMP:20260424T040741Z
UID:1708943400@ist.ac.at
DTSTART:20240226T113000
DTEND:20240226T123000
DESCRIPTION:Speaker: Bartosz Grzybowski\nhosted by Scott Waitukaitis\nAbstr
 act: Abstract: After decades of rather unsuccessful attempts\, computers a
 re finally making impact on the practice of synthetic chemistry. This chan
 ge is made possible by the combination of increased computing power and\, 
 above all\, new algorithms to encode and manipulate synthetic knowledge at
  various levels\, from sequences of full reactions to sequences of mechani
 stic steps. In my talk\, I will illustrate how these advances have enabled
  completely autonomous planning of multistep syntheses of complex (natural
  product) targets\, how they allow us to elucidate complex reaction mechan
 isms and\, above all\, discover new classes of reactions.Bartosz A. Grzybo
 wski is a Distinguished Professor of Chemistry at UNIST and a Director of 
 the IBS Center for Algorithmic and Robotized Synthesis (CARS). He is also 
 Professor at the Institute of Organic Chemistry\, Polish Academy of Scienc
 es. Although he has spent a large fraction of his research career on esote
 ric problems of self-assembly and non-equilibrium systems\, he considers h
 is most impactful discoveries to be in the area of computer-driven synthes
 is (e.g.\, the Chematica/Synthia and Allchemy programs). Grzybowski is an 
 author of ca. 300 articles\, and over the years received numerous accolade
 s of which the 2016 Feynman Prize and the 2022 Foundation for Polish Scien
 ce Prize are closest to his heart. He started several companies – most r
 ecently\, Allchemy\, Inc. – and has advised various industrial and gover
 nmental bodies in areas ranging from AI to oil drilling. 
LOCATION:Raiffeisen Lecture Hall \, ISTA
ORGANIZER:maria.arias.sutil@ista.ac.at
SUMMARY:Bartosz Grzybowski: Synthesis planning\, mechanistic analysis and d
 iscovery of new reaction classes in the age of computers
URL:https://talks-calendar.ista.ac.at/events/4432
END:VEVENT
END:VCALENDAR
