BEGIN:VCALENDAR
VERSION:2.0
PRODID:icalendar-ruby
CALSCALE:GREGORIAN
METHOD:PUBLISH
BEGIN:VTIMEZONE
TZID:Europe/Vienna
BEGIN:DAYLIGHT
DTSTART:20230326T030000
TZOFFSETFROM:+0100
TZOFFSETTO:+0200
RRULE:FREQ=YEARLY;BYDAY=-1SU;BYMONTH=3
TZNAME:CEST
END:DAYLIGHT
BEGIN:STANDARD
DTSTART:20231029T020000
TZOFFSETFROM:+0200
TZOFFSETTO:+0100
RRULE:FREQ=YEARLY;BYDAY=-1SU;BYMONTH=10
TZNAME:CET
END:STANDARD
END:VTIMEZONE
BEGIN:VEVENT
DTSTAMP:20260424T143447Z
UID:1697108400@ist.ac.at
DTSTART:20231012T130000
DTEND:20231012T150000
DESCRIPTION:Speaker: Peter Koymans\nhosted by Tim Browning \nAbstract: For 
 any abelian group A\, we prove an asymptotic formula for the number of A-e
 xtensions K/Q of bounded discriminant such that the associated norm one to
 rus R_{K/Q}^1 G_m satisfies weak approximation. We will discuss how to par
 ametrise abelian extensions in a convenient way so that the problem reduce
 s to the estimation of a certain character sum. We will then estimate this
  character sum using Siegel--Walfisz and the large sieve. This is joint wo
 rk with Nick Rome.
LOCATION:Heinzel Seminar Room (I21.EG.101)\, Office Building West\, ISTA\, 
 ISTA
ORGANIZER:birgit.oosthuizen-noczil@ist.ac.at 
SUMMARY:Peter Koymans: Weak approximation on the norm one torus
URL:https://talks-calendar.ista.ac.at/events/4403
END:VEVENT
END:VCALENDAR
