BEGIN:VCALENDAR
VERSION:2.0
PRODID:icalendar-ruby
CALSCALE:GREGORIAN
METHOD:PUBLISH
BEGIN:VTIMEZONE
TZID:Europe/Vienna
BEGIN:DAYLIGHT
DTSTART:20240331T030000
TZOFFSETFROM:+0100
TZOFFSETTO:+0200
RRULE:FREQ=YEARLY;BYDAY=-1SU;BYMONTH=3
TZNAME:CEST
END:DAYLIGHT
BEGIN:STANDARD
DTSTART:20231029T020000
TZOFFSETFROM:+0200
TZOFFSETTO:+0100
RRULE:FREQ=YEARLY;BYDAY=-1SU;BYMONTH=10
TZNAME:CET
END:STANDARD
END:VTIMEZONE
BEGIN:VEVENT
DTSTAMP:20260424T143453Z
UID:1701873000@ist.ac.at
DTSTART:20231206T153000
DTEND:20231206T163000
DESCRIPTION:Speaker: Sarah Zerbes\nhosted by Tim Browning \nAbstract: L-fun
 ctions are one of the central objects of study in number theory. There are
  many beautiful theorems and many more open conjectures linking their valu
 es to arithmetic problems. The most famous example is the conjecture of Bi
 rch and Swinnerton-Dyer\, which is one of the Clay Millenium Prize Problem
 s. I will discuss this conjecture and some related open problems\, and I w
 ill describe some recent progress on these conjectures\, using tools calle
 d Euler systems’.
LOCATION:Raiffeisen Lecture Hall\, ISTA
ORGANIZER:birgit.oosthuizen-noczil@ist.ac.at 
SUMMARY:Sarah Zerbes: Euler systems and the Birch—Swinnerton-Dyer conject
 ure
URL:https://talks-calendar.ista.ac.at/events/4398
END:VEVENT
END:VCALENDAR
