BEGIN:VCALENDAR
VERSION:2.0
PRODID:icalendar-ruby
CALSCALE:GREGORIAN
METHOD:PUBLISH
BEGIN:VTIMEZONE
TZID:Europe/Vienna
BEGIN:DAYLIGHT
DTSTART:20240331T030000
TZOFFSETFROM:+0100
TZOFFSETTO:+0200
RRULE:FREQ=YEARLY;BYDAY=-1SU;BYMONTH=3
TZNAME:CEST
END:DAYLIGHT
BEGIN:STANDARD
DTSTART:20231029T020000
TZOFFSETFROM:+0200
TZOFFSETTO:+0100
RRULE:FREQ=YEARLY;BYDAY=-1SU;BYMONTH=10
TZNAME:CET
END:STANDARD
END:VTIMEZONE
BEGIN:VEVENT
DTSTAMP:20260424T143334Z
UID:1699453800@ist.ac.at
DTSTART:20231108T153000
DTEND:20231108T163000
DESCRIPTION:Speaker: Nigel Hitchin\nhosted by Tamas Hausel\nAbstract: The s
 tudy of moduli spaces of vector bundles on algebraic curves has advanced c
 onsiderably since its beginnings in the 1960s with links to many different
  areas of mathematics and theoretical physics. One relatively recent tool 
 is the introduction of the theory of Higgs bundles. There are modification
 s to this theory involving spinors and this reveals some intriguing new is
 sues\, which link with both classical geometry and modern problems.
LOCATION:Raiffeisen Lecture Hall\, ISTA
ORGANIZER:birgit.oosthuizen-noczil@ist.ac.at 
SUMMARY:Nigel Hitchin: Spinors and vector bundles on algebraic curves
URL:https://talks-calendar.ista.ac.at/events/4397
END:VEVENT
END:VCALENDAR
