BEGIN:VCALENDAR
VERSION:2.0
PRODID:icalendar-ruby
CALSCALE:GREGORIAN
METHOD:PUBLISH
BEGIN:VTIMEZONE
TZID:Europe/Vienna
BEGIN:DAYLIGHT
DTSTART:20230326T030000
TZOFFSETFROM:+0100
TZOFFSETTO:+0200
RRULE:FREQ=YEARLY;BYDAY=-1SU;BYMONTH=3
TZNAME:CEST
END:DAYLIGHT
BEGIN:STANDARD
DTSTART:20231029T020000
TZOFFSETFROM:+0200
TZOFFSETTO:+0100
RRULE:FREQ=YEARLY;BYDAY=-1SU;BYMONTH=10
TZNAME:CET
END:STANDARD
END:VTIMEZONE
BEGIN:VEVENT
DTSTAMP:20260424T062831Z
UID:1697556600@ist.ac.at
DTSTART:20231017T173000
DTEND:20231017T200000
DESCRIPTION:Abstract: We are delighted to introduce a groundbreaking transf
 ormation to our long-standing "Science Industry Talk" tradition. Join us f
 or the debut of the inaugural bigX event\, presented in collaboration with
  the Federation of Austrian Industries. In sync with the recent unveiling 
 of the xista brand\, symbolizing ISTA's pioneering strides in innovation\,
  we usher in a new era for our annual gathering. The 'X' symbolizes our un
 wavering commitment to transcending boundaries—bridging the realms of sc
 ience and industry\, uniting diverse scientific domains\, and forging conn
 ections across various industry sectors.We cordially invite you to join us
  on a remarkable journey into the forefront of innovation and exploration 
 as we assemble leading scientists\, researchers\, and industry players.eXc
 ite: Our opening session promises a captivating discussion about ISTA's ne
 west spinoff endeavors. Together\, we will delve into the strategies for s
 caling these ventures and identifying growth opportunities in the areas of
  low noise lasers\, DNA synthesis\, mental health\, or solute carrier drug
  discovery.eXplore: Prepare to immerse yourselves in one of our thought-pr
 ovoking breakout sessions:Unmasking AI's Dark Side: Navigating Cybersecuri
 ty ChallengesneXt Cure: Exploring the Future of Brain Therapies Trends in 
 Biomedical Imaging: AI Glimpse into the FutureFrom Lab to Market: The Alch
 emy of Innovation in Chemistry Soft Matter: The Art of Understanding and D
 esigning ComplexitySustainability: Hacking Energy ConundrumCommunication: 
 Insights for Scientist InnovatorseXpand: To culminate our conference\, we 
 are honored to present a keynote address titled eXpanding your Vision: Bri
 nging Science to Market by Tom Miller\, a visionary Med-Tech CEO\, and dis
 tinguished investor. Learn about financing in our discussion: Let's Talk
  Money: Funding Europe's Science VentureseXchange: Get to know some exciti
 ng startup companies at the bigX StartUp Exchange.At the end we invite you
  to join us for an evening of networking and refreshments at the newly ina
 ugurated Moonstone Seminar Center.Your ISTA and xista innovation Team
LOCATION:Moonstone Seminar Center\, ISTA\, ISTA
ORGANIZER:msoronda@ist.ac.at
SUMMARY:bigX 23
URL:https://talks-calendar.ista.ac.at/events/4370
END:VEVENT
END:VCALENDAR
