BEGIN:VCALENDAR
VERSION:2.0
PRODID:icalendar-ruby
CALSCALE:GREGORIAN
METHOD:PUBLISH
BEGIN:VTIMEZONE
TZID:Europe/Vienna
BEGIN:DAYLIGHT
DTSTART:20230326T030000
TZOFFSETFROM:+0100
TZOFFSETTO:+0200
RRULE:FREQ=YEARLY;BYDAY=-1SU;BYMONTH=3
TZNAME:CEST
END:DAYLIGHT
BEGIN:STANDARD
DTSTART:20231029T020000
TZOFFSETFROM:+0200
TZOFFSETTO:+0100
RRULE:FREQ=YEARLY;BYDAY=-1SU;BYMONTH=10
TZNAME:CET
END:STANDARD
END:VTIMEZONE
BEGIN:VEVENT
DTSTAMP:20260424T125202Z
UID:1697455800@ist.ac.at
DTSTART:20231016T133000
DTEND:20231016T230000
DESCRIPTION:
LOCATION:Vienna\, ISTA
ORGANIZER:theresia.hammerl@ista.ac.at
SUMMARY:ISTA Retreat
URL:https://talks-calendar.ista.ac.at/events/4351
END:VEVENT
END:VCALENDAR
