BEGIN:VCALENDAR
VERSION:2.0
PRODID:icalendar-ruby
CALSCALE:GREGORIAN
METHOD:PUBLISH
BEGIN:VTIMEZONE
TZID:Europe/Vienna
BEGIN:DAYLIGHT
DTSTART:20230326T030000
TZOFFSETFROM:+0100
TZOFFSETTO:+0200
RRULE:FREQ=YEARLY;BYDAY=-1SU;BYMONTH=3
TZNAME:CEST
END:DAYLIGHT
BEGIN:STANDARD
DTSTART:20231029T020000
TZOFFSETFROM:+0200
TZOFFSETTO:+0100
RRULE:FREQ=YEARLY;BYDAY=-1SU;BYMONTH=10
TZNAME:CET
END:STANDARD
END:VTIMEZONE
BEGIN:VEVENT
DTSTAMP:20260424T143102Z
UID:1693317600@ist.ac.at
DTSTART:20230829T160000
DTEND:20230829T170000
DESCRIPTION:Speaker: Dr. Santosh Kumar Meena\nhosted by Maria Ibáñez\nAbs
 tract: Gold nanoparticles are widely used in many areas\, such as photothe
 rmal cancer therapy\, biochemical sensing\, and medical imaging\, due to t
 heir size and shape-dependent optical properties. Therefore\, directly man
 ipulating and controlling the size and shape of gold nanoparticles is a cr
 ucial step for their tailored applications. We use molecular dynamics simu
 lation models to understand the microscopic origin of the asymmetric growt
 h mechanism in gold nanorods. The different factors influencing the growth
  are selectively included in the models to unravel the role of the surfact
 ants and ions. In particular\, both infinite planes models\, representing 
 the mature stage of the growth\, and nanoseed models in the size of a few 
 nanometers are used to understand how asymmetry between the different face
 ts of the nanorods builds up. Our work shed new light on the understanding
  of the microscopic structure of the nanorods/electrolyte solution\, disse
 cting the role of the different components of the solution into the anisot
 ropic growth.Zoom Details: Talk Dr. Santosh Kumar MeenaUhrzeit: 29.Aug. 2
 023 16:00 Amsterdam\, Berlin\, Rom\, Stockholm\, WienZoom-Meeting beitrete
 nhttps://istaustria.zoom.us/j/66903412538?pwd=T01YanRQRW9WeUFGZXFjTk01ZDJy
 dz09Meeting-ID: 669 0341 2538Kenncode: 972109Schnelleinwahl mobil+43670309
 0165\,\,66903412538# ÖsterreichEinwahl nach aktuellem Standort       
  +43 670 309 0165 Österreich        +41 22 591 00 05 SchweizMeeting-I
 D: 669 0341 2538Ortseinwahl suchen: https://istaustria.zoom.us/u/ceuLB4VSJ
 F
LOCATION:Online via Zoom: https://istaustria.zoom.us/j/66903412538?pwd=T01Y
 anRQRW9WeUFGZXFjTk01ZDJydz09\, ISTA
ORGANIZER:
SUMMARY:Dr. Santosh Kumar Meena: Understanding shape control of gold nanopa
 rticles: a microscopic\, atomistic perspective
URL:https://talks-calendar.ista.ac.at/events/4347
END:VEVENT
END:VCALENDAR
