BEGIN:VCALENDAR
VERSION:2.0
PRODID:icalendar-ruby
CALSCALE:GREGORIAN
METHOD:PUBLISH
BEGIN:VTIMEZONE
TZID:Europe/Vienna
BEGIN:DAYLIGHT
DTSTART:20230326T030000
TZOFFSETFROM:+0100
TZOFFSETTO:+0200
RRULE:FREQ=YEARLY;BYDAY=-1SU;BYMONTH=3
TZNAME:CEST
END:DAYLIGHT
BEGIN:STANDARD
DTSTART:20231029T020000
TZOFFSETFROM:+0200
TZOFFSETTO:+0100
RRULE:FREQ=YEARLY;BYDAY=-1SU;BYMONTH=10
TZNAME:CET
END:STANDARD
END:VTIMEZONE
BEGIN:VEVENT
DTSTAMP:20260424T143249Z
UID:64a3dca271cad098613013@ist.ac.at
DTSTART:20231020T150000
DTEND:20231020T160000
DESCRIPTION:Speaker: Tom Brandstätter\nhosted by Edouard Hannezo
LOCATION:Mondi Seminar Room 2\, Central Building\, ISTA
ORGANIZER:aehrmann@ist.ac.at
SUMMARY:Tom Brandstätter: Data-driven theory reveals universal cell-cell i
 nteractions across distinct motile cells
URL:https://talks-calendar.ista.ac.at/events/4300
END:VEVENT
END:VCALENDAR
