BEGIN:VCALENDAR
VERSION:2.0
PRODID:icalendar-ruby
CALSCALE:GREGORIAN
METHOD:PUBLISH
BEGIN:VTIMEZONE
TZID:Europe/Vienna
BEGIN:DAYLIGHT
DTSTART:20230326T030000
TZOFFSETFROM:+0100
TZOFFSETTO:+0200
RRULE:FREQ=YEARLY;BYDAY=-1SU;BYMONTH=3
TZNAME:CEST
END:DAYLIGHT
BEGIN:STANDARD
DTSTART:20231029T020000
TZOFFSETFROM:+0200
TZOFFSETTO:+0100
RRULE:FREQ=YEARLY;BYDAY=-1SU;BYMONTH=10
TZNAME:CET
END:STANDARD
END:VTIMEZONE
BEGIN:VEVENT
DTSTAMP:20260424T143508Z
UID:1686149100@ist.ac.at
DTSTART:20230607T164500
DTEND:20230607T180000
DESCRIPTION:Speaker: Yair Shenfeld\nhosted by M. Beiglböck\, N. Berestycki
 \, L. Erdös\, J. Maas\, F. Toninelli\, E. Schertzer\nAbstract: Probabilis
 tic representations of analytic objects have proven to be a valuable tool 
 in analysis and geometry. I will talk about such representations which lea
 d to sharp control on the Hessians of functions along the heat flow. These
  results lead to new Lipschitz properties of transport maps in Euclidean a
 nd manifold settings\, and also show up in renormalization groups techniqu
 es. 
LOCATION:Mondi 2 (I01.01.008)\, Central Building\, ISTA
ORGANIZER:birgit.oosthuizen-noczil@ist.ac.at 
SUMMARY:Yair Shenfeld: Transport and renormalization via probabilistic Hess
 ian estimates
URL:https://talks-calendar.ista.ac.at/events/4269
END:VEVENT
END:VCALENDAR
