BEGIN:VCALENDAR
VERSION:2.0
PRODID:icalendar-ruby
CALSCALE:GREGORIAN
METHOD:PUBLISH
BEGIN:VTIMEZONE
TZID:Europe/Vienna
BEGIN:DAYLIGHT
DTSTART:20230326T030000
TZOFFSETFROM:+0100
TZOFFSETTO:+0200
RRULE:FREQ=YEARLY;BYDAY=-1SU;BYMONTH=3
TZNAME:CEST
END:DAYLIGHT
BEGIN:STANDARD
DTSTART:20231029T020000
TZOFFSETFROM:+0200
TZOFFSETTO:+0100
RRULE:FREQ=YEARLY;BYDAY=-1SU;BYMONTH=10
TZNAME:CET
END:STANDARD
END:VTIMEZONE
BEGIN:VEVENT
DTSTAMP:20260424T113929Z
UID:1686145500@ist.ac.at
DTSTART:20230607T154500
DTEND:20230607T164500
DESCRIPTION:Speaker: Paul Bourgade\nhosted by M. Beiglböck\, N. Berestycki
 \, L. Erdös\, J. Maas\, F. Toninelli\, E. Schertzer\nAbstract: The moment
 s of the characteristic polynomial of large random matrices have been of i
 nterest since Brézin and Hikami. They have been motivated by analogies wi
 th L-functions\, and more recently they were instrumental to understand so
 me complexity of high dimensional random fields\, and the emergence of 1d 
 Gaussian multiplicative chaos measures from self-adjoint random matrices b
 y Webb. I will explain new results for non-integer moments in bidimension
 al settings\, namely dynamics of unitary Brownian motion and non-Hermitian
  random matrices. This implies convergence of random characteristic polyno
 mials towards 2d Gaussian multiplicative chaos measures. This is based on 
 joint works with Hugo Falconet\, and Guillaume Dubach and Lisa Hartung.
LOCATION:Mondi 2 (I01.01.008)\, Central Building\, ISTA
ORGANIZER:
SUMMARY:Paul Bourgade: Moments of random characteristic polynomials
URL:https://talks-calendar.ista.ac.at/events/4268
END:VEVENT
END:VCALENDAR
