BEGIN:VCALENDAR
VERSION:2.0
PRODID:icalendar-ruby
CALSCALE:GREGORIAN
METHOD:PUBLISH
BEGIN:VTIMEZONE
TZID:Europe/Vienna
BEGIN:DAYLIGHT
DTSTART:20230326T030000
TZOFFSETFROM:+0100
TZOFFSETTO:+0200
RRULE:FREQ=YEARLY;BYDAY=-1SU;BYMONTH=3
TZNAME:CEST
END:DAYLIGHT
BEGIN:STANDARD
DTSTART:20231029T020000
TZOFFSETFROM:+0200
TZOFFSETTO:+0100
RRULE:FREQ=YEARLY;BYDAY=-1SU;BYMONTH=10
TZNAME:CET
END:STANDARD
END:VTIMEZONE
BEGIN:VEVENT
DTSTAMP:20260424T140916Z
UID:64762bcf74dcb015578286@ist.ac.at
DTSTART:20230606T123000
DTEND:20230606T134500
DESCRIPTION:Speaker: Adria Leboeuf\nhosted by Sylvia Cremer\nAbstract: Many
  successes in life are based on collaboration. Microorganisms exchange nut
 rients through cross-feeding\, and multicellular organisms are made up of 
 tissues with different metabolic roles and needs. Social insects take this
  collaboration still further\, integrating their behavior and physiology t
 o the extent that a colony can be considered a superorganism. Many ant col
 onies engage in social exchanges of experimentally accessible fluids that 
 contain both exogenously sourced and endogenously produced materials in a 
 behavior called trophallaxis. Some species engage in this behavior infrequ
 ently and only in the presence of certain cues\, while others perform trop
 hallaxis so frequently that this network of fluid exchange creates a socia
 l circulatory system that mediates a form of shared metabolism. I will des
 cribe our work on how the endogenously produced proteins transmitted in th
 ese fluids relate to colony life in the carpenter ant\, how trophallaxis a
 llows a metabolic division of labor and how the globalization of processed
  goods over the trophallactic network has far-reaching implications for ag
 ing\, ecology\, evolution and development.
LOCATION:Central Bldg / O1 / Mondi 2a (I01.O1.008)\, ISTA
ORGANIZER:apal@ist.ac.at
SUMMARY:Adria Leboeuf: Lessons from ants on the evolution of collectively d
 eveloping systems
URL:https://talks-calendar.ista.ac.at/events/4258
END:VEVENT
END:VCALENDAR
