BEGIN:VCALENDAR
VERSION:2.0
PRODID:icalendar-ruby
CALSCALE:GREGORIAN
METHOD:PUBLISH
BEGIN:VTIMEZONE
TZID:Europe/Vienna
BEGIN:DAYLIGHT
DTSTART:20240331T030000
TZOFFSETFROM:+0100
TZOFFSETTO:+0200
RRULE:FREQ=YEARLY;BYDAY=-1SU;BYMONTH=3
TZNAME:CEST
END:DAYLIGHT
BEGIN:STANDARD
DTSTART:20231029T020000
TZOFFSETFROM:+0200
TZOFFSETTO:+0100
RRULE:FREQ=YEARLY;BYDAY=-1SU;BYMONTH=10
TZNAME:CET
END:STANDARD
END:VTIMEZONE
BEGIN:VEVENT
DTSTAMP:20260424T085311Z
UID:1699871400@ist.ac.at
DTSTART:20231113T113000
DTEND:20231113T123000
DESCRIPTION:Speaker: Claudia Pasquero\nhosted by Caroline Muller\nAbstract:
  The warming observed on the Earth over the last decades is not homogeneou
 s: different characteristics of the surface are responsible for a faster t
 emperature rise over continents than over oceans\, for a strong polar ampl
 ification\, and for an elevation-dependent warming.In this talk\, atmosphe
 ric thermodynamical and dynamical processes associated to the differential
  warming will be presented. In particular\, the effects of land-sea contra
 sts on mid latitude meteorological variability\, including the occurrence 
 of winter cold spells\, heavy precipitations\, and droughts will be discus
 sed.
LOCATION:Raiffeisen Lecture Hall\, ISTA
ORGANIZER:arinya.eller@ist.ac.at
SUMMARY:Claudia Pasquero: Effects of land-sea distribution on the mid latit
 ude climatic response to anthropogenic forcing
URL:https://talks-calendar.ista.ac.at/events/4232
END:VEVENT
END:VCALENDAR
