BEGIN:VCALENDAR
VERSION:2.0
PRODID:icalendar-ruby
CALSCALE:GREGORIAN
METHOD:PUBLISH
BEGIN:VTIMEZONE
TZID:Europe/Vienna
BEGIN:DAYLIGHT
DTSTART:20230326T030000
TZOFFSETFROM:+0100
TZOFFSETTO:+0200
RRULE:FREQ=YEARLY;BYDAY=-1SU;BYMONTH=3
TZNAME:CEST
END:DAYLIGHT
BEGIN:STANDARD
DTSTART:20231029T020000
TZOFFSETFROM:+0200
TZOFFSETTO:+0100
RRULE:FREQ=YEARLY;BYDAY=-1SU;BYMONTH=10
TZNAME:CET
END:STANDARD
END:VTIMEZONE
BEGIN:VEVENT
DTSTAMP:20260424T114218Z
UID:62f4c8949fe35483600096@ist.ac.at
DTSTART:20230606T110000
DTEND:20230606T120000
DESCRIPTION:Speaker: Yuval Oreg\nhosted by Georgios Katsaros\nAbstract: The
  search for low-dimensional topological superconductivity is fueled by the
  promise of new and exotic physics\, such as chiral superconductivity and 
 non-Abelian anyons. However\, the need to break time-reversal symmetry\, u
 sually by applying an external magnetic field\, has hindered the realizati
 on of these novel phases of matter. We propose several schemes for realizi
 ng topological superconductivity by controlling just the superconductors' 
 phases\, without a need for an external exchange field. Our platforms rely
  on commonly available semiconductor-superconductor heterostructures\, whe
 re spin-orbit coupling plays a central role. The main advantages of our ap
 proach over the existing ones are its tunability\, its suitability to a wi
 de range of materials\, and the lack of field-induced impurity states. We 
 complement the simplified models by an analysis of disorder effects and tr
 ansport simulations.
LOCATION:Central Bldg / O1 / Mondi 2a+b (I01.O1.008) or join on Zoom: https
 ://istaustria.zoom.us/j/65137518502?pwd=bkczaFRicDBwVUZZZUxZTVVjM0JGQT09\,
  ISTA
ORGANIZER:swiddmann@ist.ac.at
SUMMARY:Yuval Oreg: Topological superconductivity in phase-controlled Josep
 hson junction arrays
URL:https://talks-calendar.ista.ac.at/events/4174
END:VEVENT
END:VCALENDAR
