BEGIN:VCALENDAR
VERSION:2.0
PRODID:icalendar-ruby
CALSCALE:GREGORIAN
METHOD:PUBLISH
BEGIN:VTIMEZONE
TZID:Europe/Vienna
BEGIN:DAYLIGHT
DTSTART:20230326T030000
TZOFFSETFROM:+0100
TZOFFSETTO:+0200
RRULE:FREQ=YEARLY;BYDAY=-1SU;BYMONTH=3
TZNAME:CEST
END:DAYLIGHT
BEGIN:STANDARD
DTSTART:20231029T020000
TZOFFSETFROM:+0200
TZOFFSETTO:+0100
RRULE:FREQ=YEARLY;BYDAY=-1SU;BYMONTH=10
TZNAME:CET
END:STANDARD
END:VTIMEZONE
BEGIN:VEVENT
DTSTAMP:20260424T090524Z
UID:1687431600@ist.ac.at
DTSTART:20230622T130000
DTEND:20230622T150000
DESCRIPTION:Speaker: Daniel Loughran\nhosted by Tim Browning \nAbstract: To
 gether with Efthymios Sofos and Nick Rome\, I have recently formulated a c
 onjecture on counting the number of varieties in family which are everywhe
 re locally soluble. I will explain this conjecture and some known cases\, 
 including some work in progress with Julian Lyczak concerning families ove
 r the projective line. 
LOCATION:Heinzel Seminar Room (I21.EG.101)\, Office Building West\, ISTA\, 
 ISTA
ORGANIZER:birgit.oosthuizen-noczil@ist.ac.at 
SUMMARY:Daniel Loughran: Rational points in families of varieties
URL:https://talks-calendar.ista.ac.at/events/4173
END:VEVENT
END:VCALENDAR
