BEGIN:VCALENDAR
VERSION:2.0
PRODID:icalendar-ruby
CALSCALE:GREGORIAN
METHOD:PUBLISH
BEGIN:VTIMEZONE
TZID:Europe/Vienna
BEGIN:DAYLIGHT
DTSTART:20230326T030000
TZOFFSETFROM:+0100
TZOFFSETTO:+0200
RRULE:FREQ=YEARLY;BYDAY=-1SU;BYMONTH=3
TZNAME:CEST
END:DAYLIGHT
BEGIN:STANDARD
DTSTART:20231029T020000
TZOFFSETFROM:+0200
TZOFFSETTO:+0100
RRULE:FREQ=YEARLY;BYDAY=-1SU;BYMONTH=10
TZNAME:CET
END:STANDARD
END:VTIMEZONE
BEGIN:VEVENT
DTSTAMP:20260424T074534Z
UID:1686646800@ist.ac.at
DTSTART:20230613T110000
DTEND:20230613T120000
DESCRIPTION:hosted by Legal Affairs\nAbstract: The ISTA is committed to dat
 a protection in research\, teaching and administration. The participation 
 of employees is indispensable in this regard. In this basic training\, Dr.
  Stanonik\, the new additional data protection officer (alongside Svenja K
 utnig) will present the essential basics of working with personal data. He
  will also briefly discuss what to do if\, for example\, a data breach occ
 urs.
LOCATION:Ballroom and online\, ISTA
ORGANIZER:alicja.swierczek@ist.ac.at
SUMMARY:Data Protection Training
URL:https://talks-calendar.ista.ac.at/events/4164
END:VEVENT
END:VCALENDAR
