BEGIN:VCALENDAR
VERSION:2.0
PRODID:icalendar-ruby
CALSCALE:GREGORIAN
METHOD:PUBLISH
BEGIN:VTIMEZONE
TZID:Europe/Vienna
BEGIN:DAYLIGHT
DTSTART:20230326T030000
TZOFFSETFROM:+0100
TZOFFSETTO:+0200
RRULE:FREQ=YEARLY;BYDAY=-1SU;BYMONTH=3
TZNAME:CEST
END:DAYLIGHT
BEGIN:STANDARD
DTSTART:20231029T020000
TZOFFSETFROM:+0200
TZOFFSETTO:+0100
RRULE:FREQ=YEARLY;BYDAY=-1SU;BYMONTH=10
TZNAME:CET
END:STANDARD
END:VTIMEZONE
BEGIN:VEVENT
DTSTAMP:20260425T181340Z
UID:62f4c8949fe2b342808697@ist.ac.at
DTSTART:20230523T110000
DTEND:20230523T120000
DESCRIPTION:Speaker: Darrick Chang\nhosted by Maksym Serbyn\nAbstract: TBA
LOCATION:Central Bldg / O1 / Mondi 2a + b \, ISTA
ORGANIZER:cpetz@ist.ac.at
SUMMARY:Darrick Chang: Quantum optics using atomic arrays
URL:https://talks-calendar.ista.ac.at/events/4160
END:VEVENT
END:VCALENDAR
