BEGIN:VCALENDAR
VERSION:2.0
PRODID:icalendar-ruby
CALSCALE:GREGORIAN
METHOD:PUBLISH
BEGIN:VTIMEZONE
TZID:Europe/Vienna
BEGIN:DAYLIGHT
DTSTART:20230326T030000
TZOFFSETFROM:+0100
TZOFFSETTO:+0200
RRULE:FREQ=YEARLY;BYDAY=-1SU;BYMONTH=3
TZNAME:CEST
END:DAYLIGHT
BEGIN:STANDARD
DTSTART:20231029T020000
TZOFFSETFROM:+0200
TZOFFSETTO:+0100
RRULE:FREQ=YEARLY;BYDAY=-1SU;BYMONTH=10
TZNAME:CET
END:STANDARD
END:VTIMEZONE
BEGIN:VEVENT
DTSTAMP:20260424T125729Z
UID:1685012400@ist.ac.at
DTSTART:20230525T130000
DTEND:20230525T150000
DESCRIPTION:Speaker: Florian Richter\nhosted by Tim Browning \nAbstract: In
  the 1970's Erdos asked several questions about what kind of infinite arit
 hmetic structures can be found in every set of natural numbers with positi
 ve density. In recent joint work with Bryna Kra\, Joel Moreira\, and Donal
 d Robertson we use ergodic methods to resolve some of these long-standing 
 problems. This talk will provide an overview of our results and describe s
 ome of the dynamical structures that are used to prove them
LOCATION:Heinzel Seminar Room (I21.EG.101)\, Office Building West\, ISTA\, 
 ISTA
ORGANIZER:birgit.oosthuizen-noczil@ist.ac.at 
SUMMARY:Florian Richter: On Erdos's sumset conjectures
URL:https://talks-calendar.ista.ac.at/events/4154
END:VEVENT
END:VCALENDAR
