BEGIN:VCALENDAR
VERSION:2.0
PRODID:icalendar-ruby
CALSCALE:GREGORIAN
METHOD:PUBLISH
BEGIN:VTIMEZONE
TZID:Europe/Vienna
BEGIN:DAYLIGHT
DTSTART:20230326T030000
TZOFFSETFROM:+0100
TZOFFSETTO:+0200
RRULE:FREQ=YEARLY;BYDAY=-1SU;BYMONTH=3
TZNAME:CEST
END:DAYLIGHT
BEGIN:STANDARD
DTSTART:20231029T020000
TZOFFSETFROM:+0200
TZOFFSETTO:+0100
RRULE:FREQ=YEARLY;BYDAY=-1SU;BYMONTH=10
TZNAME:CET
END:STANDARD
END:VTIMEZONE
BEGIN:VEVENT
DTSTAMP:20260424T143131Z
UID:1683726300@ist.ac.at
DTSTART:20230510T154500
DTEND:20230510T164500
DESCRIPTION:Speaker: Amine Asselah\nhosted by M. Beiglböck\, N. Berestycki
 \, L. Erdös\, J. Maas\, F. Toninelli\, E. Schertzer\nAbstract: We conside
 r branching random walks on the Euclidean lattice in dimensions five and h
 igher.We plan to discuss a relationship between the equilibrium measure an
 d Green’s function\, in the form of an approximate last passage decompos
 ition.We will also discuss tail estimates of the local times for the branc
 hing random walk. Finally\, we present a Spitzer's type formula relating C
 apacity and Branching Capacity\, as well as a list of open problems.This i
 s joint work with Perla Sousi and Bruno Schapira.Organiser:
LOCATION:Mondi 2 (I01.01.008)\, Central Building\, ISTA
ORGANIZER:birgit.oosthuizen-noczil@ist.ac.at 
SUMMARY:Amine Asselah: On Branching Random Walks in the transient regime
URL:https://talks-calendar.ista.ac.at/events/4145
END:VEVENT
END:VCALENDAR
