BEGIN:VCALENDAR
VERSION:2.0
PRODID:icalendar-ruby
CALSCALE:GREGORIAN
METHOD:PUBLISH
BEGIN:VTIMEZONE
TZID:Europe/Vienna
BEGIN:DAYLIGHT
DTSTART:20230326T030000
TZOFFSETFROM:+0100
TZOFFSETTO:+0200
RRULE:FREQ=YEARLY;BYDAY=-1SU;BYMONTH=3
TZNAME:CEST
END:DAYLIGHT
BEGIN:STANDARD
DTSTART:20231029T020000
TZOFFSETFROM:+0200
TZOFFSETTO:+0100
RRULE:FREQ=YEARLY;BYDAY=-1SU;BYMONTH=10
TZNAME:CET
END:STANDARD
END:VTIMEZONE
BEGIN:VEVENT
DTSTAMP:20260424T193008Z
UID:1684306800@ist.ac.at
DTSTART:20230517T090000
DTEND:20230517T170000
DESCRIPTION:Abstract: Get ready to be amazed by the world of plants at IS
 TA´s upcoming virtual Fascination of Plants Day on May 17.Join us on Ins
 tagram as we delve into the exciting world of plant science\, uncovering 
 the latest breakthroughs\, while learning from ISTA scientists.You'll disc
 over the secrets of how to regrow food scraps\, do your very own plant exp
 eriment\, and gain insight into the life of a plant scientist at ISTA. We'
 ll also put your knowledge to the test with our interactive quiz.But that'
 s not all! The online event is a celebration of the vital role that plan
 ts play for our planet\, and we'll show you that they are much more than j
 ust green. Spread the word and help us make May 17\, 2023\, a plantastic d
 ay to remember! So\, what are you waiting for? Follow us now on Instagram
  @istaresearch (http://www.instagram.com/istaresearch/)\, tag your plant-
 loving friends\, and get ready to experience the wonder of plants with us!
  We can't wait to see you there! . . .Am 17. Mai steht beim Institute of
  Science and Technology Austria (ISTA) die faszinierende Welt der Pflanzen
  im virtuellen Rampenlicht! Erlebt mit uns eine Welt\, die viel mehr ist 
 als nur grün\, und entdeckt was es Neues in der Pflanzenforschung gibt. 
 Unsere Wissenschafter:innen zeigen euch\, wie Lebensmittelabfälle zu neu
 em Leben erweckt werden können\, wie man Pflanzenexperimente selbst dur
 chführen kann und geben euch einen Einblick in ihrenspannenden Forsc
 hungsalltag am ISTA. Und das Beste: Mit unserem Quiz könnt ihr euer Wiss
 en testen und tolle Preise gewinnen!Folgt uns auf Instagram @istaresearch 
 (http://www.instagram.com/istaresearch/)\, taggt eure pflanzenbegeisterten
  Freunde und seid dabei\, wenn wir das Wunder der Pflanzen erleben.Wir fre
 uen uns auf euch! 
LOCATION:Online - Instagram @istaresearch\, ISTA
ORGANIZER:ninaleona.schwarz@ista.ac.at
SUMMARY:Plantastic Day @ISTAresearch
URL:https://talks-calendar.ista.ac.at/events/4142
END:VEVENT
END:VCALENDAR
