BEGIN:VCALENDAR
VERSION:2.0
PRODID:icalendar-ruby
CALSCALE:GREGORIAN
METHOD:PUBLISH
BEGIN:VTIMEZONE
TZID:Europe/Vienna
BEGIN:DAYLIGHT
DTSTART:20230326T030000
TZOFFSETFROM:+0100
TZOFFSETTO:+0200
RRULE:FREQ=YEARLY;BYDAY=-1SU;BYMONTH=3
TZNAME:CEST
END:DAYLIGHT
BEGIN:STANDARD
DTSTART:20231029T020000
TZOFFSETFROM:+0200
TZOFFSETTO:+0100
RRULE:FREQ=YEARLY;BYDAY=-1SU;BYMONTH=10
TZNAME:CET
END:STANDARD
END:VTIMEZONE
BEGIN:VEVENT
DTSTAMP:20260424T141015Z
UID:1688367600@ist.ac.at
DTSTART:20230703T090000
DTEND:20230707T180000
DESCRIPTION:Abstract: This conference brings together scientists of differe
 nt research disciplines active in the fields of nanoscience and nanotechno
 logy.Main TopicsChemical synthesis\, shape control and surface chemistryAs
 sembly\, collective phenomenaOptical\, electronic\, thermal and magnetic p
 roperties\; observation of novel phenomenaApplications in optoelectronics\
 , biology & healthcare\, catalysis\, energy storage & harvesting\, informa
 tion technologiesInvited Speakers>> http://nanax.org/speakers/Program>> ht
 tp://nanax.org/program/ 
LOCATION:ISTA\, ISTA
ORGANIZER:
SUMMARY:NaNaX10
URL:https://talks-calendar.ista.ac.at/events/4116
END:VEVENT
END:VCALENDAR
