BEGIN:VCALENDAR
VERSION:2.0
PRODID:icalendar-ruby
CALSCALE:GREGORIAN
METHOD:PUBLISH
BEGIN:VTIMEZONE
TZID:Europe/Vienna
BEGIN:DAYLIGHT
DTSTART:20230326T030000
TZOFFSETFROM:+0100
TZOFFSETTO:+0200
RRULE:FREQ=YEARLY;BYDAY=-1SU;BYMONTH=3
TZNAME:CEST
END:DAYLIGHT
BEGIN:STANDARD
DTSTART:20231029T020000
TZOFFSETFROM:+0200
TZOFFSETTO:+0100
RRULE:FREQ=YEARLY;BYDAY=-1SU;BYMONTH=10
TZNAME:CET
END:STANDARD
END:VTIMEZONE
BEGIN:VEVENT
DTSTAMP:20260424T085458Z
UID:1683198000@ist.ac.at
DTSTART:20230504T130000
DTEND:20230504T150000
DESCRIPTION:Speaker: Ben Heuer\nhosted by Tamas Hausel\nAbstract: I will gi
 ve an introduction to recent advances in p-adic non-abelian Hodge theory a
 imed at complex geometers. Assuming no technical background in p-adic geom
 etry\, the first goal of this talk is to explain a reinterpretation of Fal
 tings' p-adic Simpson correspondence in the language of Scholze's perfecto
 id geometry. The focus will be on explaining analogies to the complex non-
 abelian Hodge correspondence. I will then explain how moduli spaces can be
  used to give a geometric incarnation of the p-adic Simpson correspondence
 : Surprisingly\, and in contrast to the complex situation\, the p-adic Hit
 chin fibration on the Betti side turns out to be an analytic fibration.
LOCATION:Heinzel Seminar Room (I21.EG.101)\, Office Building West\, ISTA\, 
 ISTA
ORGANIZER:birgit.oosthuizen-noczil@ist.ac.at 
SUMMARY:Ben Heuer: p-adic non-abelian Hodge theory for non-p-adic geometers
URL:https://talks-calendar.ista.ac.at/events/4105
END:VEVENT
END:VCALENDAR
